BEGIN:VCALENDAR
VERSION:2.0
PRODID:-//Glasgow &amp; North Strathclyde Badminton Group - ECPv6.15.20//NONSGML v1.0//EN
CALSCALE:GREGORIAN
METHOD:PUBLISH
X-ORIGINAL-URL:https://glasgowbadminton.co.uk
X-WR-CALDESC:Events for Glasgow &amp; North Strathclyde Badminton Group
REFRESH-INTERVAL;VALUE=DURATION:PT1H
X-Robots-Tag:noindex
X-PUBLISHED-TTL:PT1H
BEGIN:VTIMEZONE
TZID:UTC
BEGIN:STANDARD
TZOFFSETFROM:+0000
TZOFFSETTO:+0000
TZNAME:UTC
DTSTART:20200101T000000
END:STANDARD
END:VTIMEZONE
BEGIN:VEVENT
DTSTART;VALUE=DATE:20211017
DTEND;VALUE=DATE:20211018
DTSTAMP:20260421T151852
CREATED:20210822T091842Z
LAST-MODIFIED:20210822T091842Z
UID:1250-1634428800-1634515199@glasgowbadminton.co.uk
SUMMARY:Junior League (Singles No. 2)
DESCRIPTION:
URL:https://glasgowbadminton.co.uk/event/junior-league-singles-no-2
LOCATION:National Badminton Academy\, Scotstoun Glasgow Club\, 112 Danes Drive\, Glasgow\, G14 9HD\, United Kingdom
CATEGORIES:Junior
ORGANIZER;CN="G&NS Juniors":MAILTO:juniors@glasgowbadminton.co.uk
END:VEVENT
BEGIN:VEVENT
DTSTART;TZID=UTC:20211002T090000
DTEND;TZID=UTC:20211002T160000
DTSTAMP:20260421T151852
CREATED:20210906T112753Z
LAST-MODIFIED:20210906T112753Z
UID:1272-1633165200-1633190400@glasgowbadminton.co.uk
SUMMARY:West Open Disability Badminton Championships
DESCRIPTION:Disability Sport Glasgow\, in partnership with Glasgow Disability Badminton Club\, Glasgow & North Strathclyde Badminton Group\, Badminton Scotland and Scottish Disability Sport are delighted to invite entries from across Scotland to the first ever West Open Disability Badminton Championships. This is a singles only competition and cost per player is £8. \nSCHEDULE: \nRegistration will open at 9.15am and the championships will begin at 10.00am sharp. The schedule and draw will depend on the number of entries and will be completed one week before the event. We aim to do a round robin format to ensure everyone gets multiple games before a knockout stage or final. \nSECTIONS: \nThere will be four sections of the competition which are mixed gender and minimum age is 12. \nA –          Open Class for Players who use a Wheelchair (WC) \nB –          Open Class for Players with an ambulant Physical Disability (PD) \nC –          Open Class for Players with a Learning Disability (LD) \nD –         Open Class for Short Stature Players (SS) \n     CATERING: \n     We recommend bringing your lunch.  There is a small snack bar for tea\, coffee and soft drinks (open 10am -1pm) \nRULES: \nAll round robin matches will be played first to 21 with extended scoring. Semi Final and Final will be 3 sets to 21. \nPlease familiarise yourself with find attached the Code of Conduct for the event.  To view this click WODBC Code of Conduct.docx \nGDPR:  \nIn regard to GDPR\, you can view our Privacy Notice by clicking here
URL:https://glasgowbadminton.co.uk/event/west-open-disability-badminton-championships
LOCATION:Tollcross Leisure Centre\, 350 Wellshot Road\, Tollcross\, Glasgow\, G32 7QR\, United Kingdom
CATEGORIES:Disability
ORGANIZER;CN="Badminton Scotland":MAILTO:marketing@badmintonscotland.org.uk
END:VEVENT
BEGIN:VEVENT
DTSTART;VALUE=DATE:20211001
DTEND;VALUE=DATE:20211004
DTSTAMP:20260421T151852
CREATED:20210522T071124Z
LAST-MODIFIED:20210522T071124Z
UID:1150-1633046400-1633305599@glasgowbadminton.co.uk
SUMMARY:U15 (2007) Home Nations Quadrangular
DESCRIPTION:
URL:https://glasgowbadminton.co.uk/event/u15-2007-home-nations-quadrangular
LOCATION:National Badminton Academy\, Scotstoun Glasgow Club\, 112 Danes Drive\, Glasgow\, G14 9HD\, United Kingdom
CATEGORIES:Junior,National
ORGANIZER;CN="Peter Dean":MAILTO:peter@badmintonscotland.org.uk
END:VEVENT
BEGIN:VEVENT
DTSTART;VALUE=DATE:20210918
DTEND;VALUE=DATE:20210920
DTSTAMP:20260421T151852
CREATED:20210522T070948Z
LAST-MODIFIED:20210711T085608Z
UID:1148-1631923200-1632095999@glasgowbadminton.co.uk
SUMMARY:Glasgow Yonex Junior Championships U13/17 (2009+/2005+)
DESCRIPTION:
URL:https://glasgowbadminton.co.uk/event/glasgow-junior-yonex-championships-u13-17-2009-2005
LOCATION:Sir Craig Reedie Centre\, 12 Bogmoor Place\, Glasgow\, G51 4TQ\, United Kingdom
CATEGORIES:Junior
ORGANIZER;CN="Gillian Allan":MAILTO:juniors@glasgowbadminton.co.uk
END:VEVENT
BEGIN:VEVENT
DTSTART;VALUE=DATE:20210912
DTEND;VALUE=DATE:20210913
DTSTAMP:20260421T151852
CREATED:20210822T091557Z
LAST-MODIFIED:20210822T091557Z
UID:1247-1631404800-1631491199@glasgowbadminton.co.uk
SUMMARY:Junior League (Singles No. 1)
DESCRIPTION:
URL:https://glasgowbadminton.co.uk/event/junior-league-singles-no-1
LOCATION:National Badminton Academy\, Scotstoun Glasgow Club\, 112 Danes Drive\, Glasgow\, G14 9HD\, United Kingdom
CATEGORIES:Junior
ORGANIZER;CN="G&NS Juniors":MAILTO:juniors@glasgowbadminton.co.uk
END:VEVENT
BEGIN:VEVENT
DTSTART;VALUE=DATE:20210904
DTEND;VALUE=DATE:20210906
DTSTAMP:20260421T151852
CREATED:20210522T070824Z
LAST-MODIFIED:20210711T085559Z
UID:1146-1630713600-1630886399@glasgowbadminton.co.uk
SUMMARY:Glasgow Yonex Junior Championships U15/19 (2007+/2003+)
DESCRIPTION:
URL:https://glasgowbadminton.co.uk/event/glasgow-yonex-junior-championships-u15-19-2007-2003
LOCATION:Sir Craig Reedie Centre\, 12 Bogmoor Place\, Glasgow\, G51 4TQ\, United Kingdom
CATEGORIES:Junior
ORGANIZER;CN="Gillian Allan":MAILTO:juniors@glasgowbadminton.co.uk
END:VEVENT
BEGIN:VEVENT
DTSTART;TZID=UTC:20210830T190000
DTEND;TZID=UTC:20210830T210000
DTSTAMP:20260421T151852
CREATED:20210816T082450Z
LAST-MODIFIED:20210816T082450Z
UID:1243-1630350000-1630357200@glasgowbadminton.co.uk
SUMMARY:Annual General Meeting of the Glasgow & North Strathclyde Badminton Group
DESCRIPTION:The Glasgow & North Strathclyde Badminton Group (G&NS) will be holding its annual general meeting (AGM) on Monday 30 August at 7.00pm in the Badminton Scotland offices: 40 Bogmoor Place\, Glasgow\, G51 4TQ.\n \n\n\nWe welcome players and clubs to attend our AGM to hear what’s going on in our group and to help to increase participation of badminton across our regional area.\n \n\n\nClubs in our area can also vote at our AGM — with one vote allowed per club.\n \n\n\nIf you or any of your members would like to attend the AGM\, please email contact@glasgowbadminton.co.uk before 5pm on Friday 27 August.\n 
URL:https://glasgowbadminton.co.uk/event/annual-general-meeting-of-the-glasgow-north-strathclyde-badminton-group
LOCATION:Sir Craig Reedie Centre\, 12 Bogmoor Place\, Glasgow\, G51 4TQ\, United Kingdom
CATEGORIES:Adult Social,Junior,Masters,National,Senior,Veterans
ORGANIZER;CN="Gillian Allan":MAILTO:juniors@glasgowbadminton.co.uk
END:VEVENT
BEGIN:VEVENT
DTSTART;VALUE=DATE:20210814
DTEND;VALUE=DATE:20210816
DTSTAMP:20260421T151852
CREATED:20210522T070528Z
LAST-MODIFIED:20210522T070528Z
UID:1143-1628899200-1629071999@glasgowbadminton.co.uk
SUMMARY:Scottish National Junior Championships U13/15 (2009+/2005+)
DESCRIPTION:
URL:https://glasgowbadminton.co.uk/event/scottish-national-junior-championships-u13-15-2009-2005
LOCATION:Sir Craig Reedie Centre\, 12 Bogmoor Place\, Glasgow\, G51 4TQ\, United Kingdom
CATEGORIES:Junior,National
ORGANIZER;CN="Peter Dean":MAILTO:peter@badmintonscotland.org.uk
END:VEVENT
BEGIN:VEVENT
DTSTART;TZID=UTC:20210808T143000
DTEND;TZID=UTC:20210808T173000
DTSTAMP:20260421T151852
CREATED:20210727T135546Z
LAST-MODIFIED:20210727T135546Z
UID:1240-1628433000-1628443800@glasgowbadminton.co.uk
SUMMARY:Junior Match Play (August 2021)
DESCRIPTION:Following successful Junior Summer Match Play sessions in the North of Scotland\, BADMINTONscotland and Yonex are partnering with the Glasgow & North Strathclyde Badminton Group and West of Scotland Badminton Group to provide juniors more opportunities to play some badminton again. Informal match play sessions over the school summer holidays can provide players with good competitive matches in a relaxed\, social environment.\n \n\n\nThe aim of the session is to provide junior players (under 18) the opportunity to be re-introduced to competition through a series of games to compliment the return to play post lockdown.\n \n\n\nEvent Details:\n \n\n\nDate: Sunday 8th August\nTime: 14:30-17:30\nVenue: Sir Craig Reedie Centre\, Glasgow\nCost: £7 (Any profits split between both regional groups)\n \n\n\nMore info and to register\, follow this link: https://bit.ly/3zpEpX1
URL:https://glasgowbadminton.co.uk/event/junior-match-play-august-2021
LOCATION:Sir Craig Reedie Centre\, 12 Bogmoor Place\, Glasgow\, G51 4TQ\, United Kingdom
CATEGORIES:Junior
ORGANIZER;CN="Badminton Scotland":MAILTO:marketing@badmintonscotland.org.uk
END:VEVENT
BEGIN:VEVENT
DTSTART;TZID=UTC:20210808T103000
DTEND;TZID=UTC:20210808T133000
DTSTAMP:20260421T151852
CREATED:20210727T135257Z
LAST-MODIFIED:20210727T135257Z
UID:1238-1628418600-1628429400@glasgowbadminton.co.uk
SUMMARY:Adult Match Play (August 2021)
DESCRIPTION:With organised badminton activity allowed again we are delighted to be organising a second Adult Match Play session for players 16+ on Sunday 8 Ausut between 10.30am and 1.30pm.  We are running this session at the SCR Cockburn Centre. We expect that all levels will be able to participate in this session including: \n\nBeginner – no prior experience of competitions or returning after long period away from the sport\nSocial – bit of playing experience but for social purposes (keep fit and making friends) or have competed in local competitions \nCompetitive – play league matches\, competitions or ranking events including B & C Grade\nPerformance – compete in A Grade tournaments and represent county\n\nCost is £10 for the session (per person) and due to Covid pre-booking via GoMembership is essential\, please do not turn up on the day.   \nFull refunds will be given if Covid-related changes occur.  For all other reason\, only £9 will be returned to cover costs incurred.  No refund will be given with less than 48 hours before event. \nVenue is SCR Cockburn Centre\, 40 Bogmoor Place\, Govan\, Glasgow\, G51 4TQ. \nMatches will be doubles only.  These will be based on ability\, making sure everyone has a challenge and a chance to play against people they do not play regularly. \nThere are 6 courts and a 30 player limit (15 pairs) so there is plenty of court time available. \nThis will be fun and friendly\, allowing players to gently re-introduce themselves back to competitive match play.
URL:https://glasgowbadminton.co.uk/event/adult-match-play-august-2021
LOCATION:Sir Craig Reedie Centre\, 12 Bogmoor Place\, Glasgow\, G51 4TQ\, United Kingdom
CATEGORIES:Adult Social,Masters,Senior,Veterans
ORGANIZER;CN="Badminton Scotland":MAILTO:marketing@badmintonscotland.org.uk
END:VEVENT
BEGIN:VEVENT
DTSTART;TZID=UTC:20210715T150000
DTEND;TZID=UTC:20210715T173000
DTSTAMP:20260421T151852
CREATED:20210630T142313Z
LAST-MODIFIED:20210630T142528Z
UID:1187-1626361200-1626370200@glasgowbadminton.co.uk
SUMMARY:Junior Match Play
DESCRIPTION:With badminton allowed again we are delighted to restart the Junior Match Plays. We are running these sessions at the SCR Cockburn Centre. Alongside players who would normally play in junior leagues and those in performance squads we really like to welcome players in clubs that haven’t been able to re-start yet. \n\nDates include \n\nThursday 8th July from 15:00-17:30\nThursday 15th July from 15:00-17:30\nAge range is Secondary School ages. All players must be <18 on the date. Younger players with a national ranking (SC number) are also welcome\n\n\nCost is £6 a session and due to Covid pre-booking via GoMembership is essential\, please don’t turn up on the day\nFull refunds will be given if Covid-related changes occur.  For all other reason\, only £5 will be returned to cover costs incurred.  No refund will be given with less than 48 hours before event\nVenue is SCR Cockburn Centre\, 40 Bogmoor Place\, Govan\, Glasgow\, G51 4TQ\nMatches will be a mix of singles and doubles. As far as possible\, these will be based on ability\, making sure everyone has a challenge and a chance to play against people they don’t play regularly\nThere are six courts and a 30 player limit so there is plenty of court time available\nWill be fun and friendly\, if you think it might be too hard/easy then just bring along a friend or doubles partner
URL:https://glasgowbadminton.co.uk/event/junior-match-play-2
LOCATION:Sir Craig Reedie Centre\, 12 Bogmoor Place\, Glasgow\, G51 4TQ\, United Kingdom
CATEGORIES:Junior
ORGANIZER;CN="Badminton Scotland":MAILTO:marketing@badmintonscotland.org.uk
END:VEVENT
BEGIN:VEVENT
DTSTART;TZID=UTC:20210710T133000
DTEND;TZID=UTC:20210710T163000
DTSTAMP:20260421T151852
CREATED:20211125T183028Z
LAST-MODIFIED:20211103T170830Z
UID:1189-1625923800-1625934600@glasgowbadminton.co.uk
SUMMARY:Adult Match Play
DESCRIPTION:With organised badminton activity allowed again we are delighted to be organising a second Adult Match Play session for players 16+ on Saturday 10th July\, 13:30-16:30.  We are running this session at the SCR Cockburn Centre. We expect that all levels will be able to participate in this session including: \n\nBeginner – no prior experience of competitions or returning after long period away from the sport\nSocial – bit of playing experience but for social purposes (keep fit and making friends) or have competed in local competitions \nCompetitive – play league matches\, competitions or ranking events including B & C Grade\nPerformance – compete in A Grade tournaments and represent county\n\nCost is £10 for the session (per person) and due to Covid pre-booking via GoMembership is essential\, please do not turn up on the day.   \nFull refunds will be given if Covid-related changes occur.  For all other reason\, only £9 will be returned to cover costs incurred.  No refund will be given with less than 48 hours before event. \nVenue is SCR Cockburn Centre\, 40 Bogmoor Place\, Govan\, Glasgow\, G51 4TQ. \nMatches will be doubles only.  These will be based on ability\, making sure everyone has a challenge and a chance to play against people they do not play regularly. \nThere are 6 courts and a 30 player limit (15 pairs) so there is plenty of court time available. \nThis will be fun and friendly\, allowing players to gently re-introduce themselves back to competitive match play.
URL:https://glasgowbadminton.co.uk/event/adult-match-play
LOCATION:Sir Craig Reedie Centre\, 12 Bogmoor Place\, Glasgow\, G51 4TQ\, United Kingdom
CATEGORIES:Adult Social,Disability,Masters,National,Senior,Veterans
ORGANIZER;CN="Badminton Scotland":MAILTO:marketing@badmintonscotland.org.uk
END:VEVENT
BEGIN:VEVENT
DTSTART;TZID=UTC:20210708T150000
DTEND;TZID=UTC:20210708T173000
DTSTAMP:20260421T151852
CREATED:20210630T142146Z
LAST-MODIFIED:20210630T142546Z
UID:1184-1625756400-1625765400@glasgowbadminton.co.uk
SUMMARY:Junior Match Play
DESCRIPTION:With badminton allowed again we are delighted to restart the Junior Match Plays. We are running these sessions at the SCR Cockburn Centre. Alongside players who would normally play in junior leagues and those in performance squads we really like to welcome players in clubs that haven’t been able to re-start yet. \n\nDates include \n\nThursday 8th July from 15:00-17:30\nThursday 15th July from 15:00-17:30\nAge range is Secondary School ages. All players must be <18 on the date. Younger players with a national ranking (SC number) are also welcome\n\n\nCost is £6 a session and due to Covid pre-booking via GoMembership is essential\, please don’t turn up on the day\nFull refunds will be given if Covid-related changes occur.  For all other reason\, only £5 will be returned to cover costs incurred.  No refund will be given with less than 48 hours before event\nVenue is SCR Cockburn Centre\, 40 Bogmoor Place\, Govan\, Glasgow\, G51 4TQ\nMatches will be a mix of singles and doubles. As far as possible\, these will be based on ability\, making sure everyone has a challenge and a chance to play against people they don’t play regularly\nThere are six courts and a 30 player limit so there is plenty of court time available\nWill be fun and friendly\, if you think it might be too hard/easy then just bring along a friend or doubles partner
URL:https://glasgowbadminton.co.uk/event/junior-match-play
LOCATION:Sir Craig Reedie Centre\, 12 Bogmoor Place\, Glasgow\, G51 4TQ\, United Kingdom
CATEGORIES:Junior
ORGANIZER;CN="Badminton Scotland":MAILTO:marketing@badmintonscotland.org.uk
END:VEVENT
END:VCALENDAR