BEGIN:VCALENDAR
VERSION:2.0
PRODID:-//Glasgow &amp; North Strathclyde Badminton Group - ECPv6.15.20//NONSGML v1.0//EN
CALSCALE:GREGORIAN
METHOD:PUBLISH
X-WR-CALNAME:Glasgow &amp; North Strathclyde Badminton Group
X-ORIGINAL-URL:https://glasgowbadminton.co.uk
X-WR-CALDESC:Events for Glasgow &amp; North Strathclyde Badminton Group
REFRESH-INTERVAL;VALUE=DURATION:PT1H
X-Robots-Tag:noindex
X-PUBLISHED-TTL:PT1H
BEGIN:VTIMEZONE
TZID:UTC
BEGIN:STANDARD
TZOFFSETFROM:+0000
TZOFFSETTO:+0000
TZNAME:UTC
DTSTART:20200101T000000
END:STANDARD
END:VTIMEZONE
BEGIN:VEVENT
DTSTART;VALUE=DATE:20220325
DTEND;VALUE=DATE:20220328
DTSTAMP:20260420T130842
CREATED:20210522T072124Z
LAST-MODIFIED:20210522T072124Z
UID:1163-1648166400-1648425599@glasgowbadminton.co.uk
SUMMARY:4 Nations Disability Championships
DESCRIPTION:
URL:https://glasgowbadminton.co.uk/event/4-nations-disability-championships
LOCATION:Sir Craig Reedie Centre\, 12 Bogmoor Place\, Glasgow\, G51 4TQ\, United Kingdom
CATEGORIES:National
ORGANIZER;CN="Peter Dean":MAILTO:peter@badmintonscotland.org.uk
END:VEVENT
BEGIN:VEVENT
DTSTART;VALUE=DATE:20220121
DTEND;VALUE=DATE:20220124
DTSTAMP:20260420T130842
CREATED:20210522T071815Z
LAST-MODIFIED:20210522T071815Z
UID:1159-1642723200-1642982399@glasgowbadminton.co.uk
SUMMARY:Yonex Scottish International Masters Championships
DESCRIPTION:
URL:https://glasgowbadminton.co.uk/event/yonex-scottish-international-masters-championships
LOCATION:Sir Craig Reedie Centre\, 12 Bogmoor Place\, Glasgow\, G51 4TQ\, United Kingdom
CATEGORIES:Masters,National
ORGANIZER;CN="Peter Dean":MAILTO:peter@badmintonscotland.org.uk
END:VEVENT
BEGIN:VEVENT
DTSTART;VALUE=DATE:20211125
DTEND;VALUE=DATE:20211129
DTSTAMP:20260420T130842
CREATED:20210522T071639Z
LAST-MODIFIED:20210522T080128Z
UID:1156-1637798400-1638143999@glasgowbadminton.co.uk
SUMMARY:Scottish Open Championships
DESCRIPTION:
URL:https://glasgowbadminton.co.uk/event/scottish-open-championships
LOCATION:Emirates Arena\, 1000 London Road\, Glasgow\, Glasgow City\, G40 3HG\, United Kingdom
CATEGORIES:National,Senior
ORGANIZER;CN="Peter Dean":MAILTO:peter@badmintonscotland.org.uk
END:VEVENT
BEGIN:VEVENT
DTSTART;VALUE=DATE:20211030
DTEND;VALUE=DATE:20211101
DTSTAMP:20260420T130842
CREATED:20210522T071413Z
LAST-MODIFIED:20210522T071413Z
UID:1154-1635552000-1635724799@glasgowbadminton.co.uk
SUMMARY:Scottish National Masters Championships
DESCRIPTION:
URL:https://glasgowbadminton.co.uk/event/scottish-national-masters-championships
LOCATION:Sir Craig Reedie Centre\, 12 Bogmoor Place\, Glasgow\, G51 4TQ\, United Kingdom
CATEGORIES:Masters,National
ORGANIZER;CN="Peter Dean":MAILTO:peter@badmintonscotland.org.uk
END:VEVENT
BEGIN:VEVENT
DTSTART;VALUE=DATE:20211023
DTEND;VALUE=DATE:20211024
DTSTAMP:20260420T130842
CREATED:20210522T071250Z
LAST-MODIFIED:20210522T071250Z
UID:1152-1634947200-1635033599@glasgowbadminton.co.uk
SUMMARY:Senior Inter-Group Competition
DESCRIPTION:
URL:https://glasgowbadminton.co.uk/event/senior-inter-group-competition
LOCATION:Sir Craig Reedie Centre\, 12 Bogmoor Place\, Glasgow\, G51 4TQ\, United Kingdom
CATEGORIES:National,Senior
ORGANIZER;CN="Peter Dean":MAILTO:peter@badmintonscotland.org.uk
END:VEVENT
BEGIN:VEVENT
DTSTART;VALUE=DATE:20211001
DTEND;VALUE=DATE:20211004
DTSTAMP:20260420T130842
CREATED:20210522T071124Z
LAST-MODIFIED:20210522T071124Z
UID:1150-1633046400-1633305599@glasgowbadminton.co.uk
SUMMARY:U15 (2007) Home Nations Quadrangular
DESCRIPTION:
URL:https://glasgowbadminton.co.uk/event/u15-2007-home-nations-quadrangular
LOCATION:National Badminton Academy\, Scotstoun Glasgow Club\, 112 Danes Drive\, Glasgow\, G14 9HD\, United Kingdom
CATEGORIES:Junior,National
ORGANIZER;CN="Peter Dean":MAILTO:peter@badmintonscotland.org.uk
END:VEVENT
BEGIN:VEVENT
DTSTART;TZID=UTC:20210830T190000
DTEND;TZID=UTC:20210830T210000
DTSTAMP:20260420T130842
CREATED:20210816T082450Z
LAST-MODIFIED:20210816T082450Z
UID:1243-1630350000-1630357200@glasgowbadminton.co.uk
SUMMARY:Annual General Meeting of the Glasgow & North Strathclyde Badminton Group
DESCRIPTION:The Glasgow & North Strathclyde Badminton Group (G&NS) will be holding its annual general meeting (AGM) on Monday 30 August at 7.00pm in the Badminton Scotland offices: 40 Bogmoor Place\, Glasgow\, G51 4TQ.\n \n\n\nWe welcome players and clubs to attend our AGM to hear what’s going on in our group and to help to increase participation of badminton across our regional area.\n \n\n\nClubs in our area can also vote at our AGM — with one vote allowed per club.\n \n\n\nIf you or any of your members would like to attend the AGM\, please email contact@glasgowbadminton.co.uk before 5pm on Friday 27 August.\n 
URL:https://glasgowbadminton.co.uk/event/annual-general-meeting-of-the-glasgow-north-strathclyde-badminton-group
LOCATION:Sir Craig Reedie Centre\, 12 Bogmoor Place\, Glasgow\, G51 4TQ\, United Kingdom
CATEGORIES:Adult Social,Junior,Masters,National,Senior,Veterans
ORGANIZER;CN="Gillian Allan":MAILTO:juniors@glasgowbadminton.co.uk
END:VEVENT
BEGIN:VEVENT
DTSTART;VALUE=DATE:20210814
DTEND;VALUE=DATE:20210816
DTSTAMP:20260420T130842
CREATED:20210522T070528Z
LAST-MODIFIED:20210522T070528Z
UID:1143-1628899200-1629071999@glasgowbadminton.co.uk
SUMMARY:Scottish National Junior Championships U13/15 (2009+/2005+)
DESCRIPTION:
URL:https://glasgowbadminton.co.uk/event/scottish-national-junior-championships-u13-15-2009-2005
LOCATION:Sir Craig Reedie Centre\, 12 Bogmoor Place\, Glasgow\, G51 4TQ\, United Kingdom
CATEGORIES:Junior,National
ORGANIZER;CN="Peter Dean":MAILTO:peter@badmintonscotland.org.uk
END:VEVENT
BEGIN:VEVENT
DTSTART;TZID=UTC:20210710T133000
DTEND;TZID=UTC:20210710T163000
DTSTAMP:20260420T130842
CREATED:20211125T183028Z
LAST-MODIFIED:20211103T170830Z
UID:1189-1625923800-1625934600@glasgowbadminton.co.uk
SUMMARY:Adult Match Play
DESCRIPTION:With organised badminton activity allowed again we are delighted to be organising a second Adult Match Play session for players 16+ on Saturday 10th July\, 13:30-16:30.  We are running this session at the SCR Cockburn Centre. We expect that all levels will be able to participate in this session including: \n\nBeginner – no prior experience of competitions or returning after long period away from the sport\nSocial – bit of playing experience but for social purposes (keep fit and making friends) or have competed in local competitions \nCompetitive – play league matches\, competitions or ranking events including B & C Grade\nPerformance – compete in A Grade tournaments and represent county\n\nCost is £10 for the session (per person) and due to Covid pre-booking via GoMembership is essential\, please do not turn up on the day.   \nFull refunds will be given if Covid-related changes occur.  For all other reason\, only £9 will be returned to cover costs incurred.  No refund will be given with less than 48 hours before event. \nVenue is SCR Cockburn Centre\, 40 Bogmoor Place\, Govan\, Glasgow\, G51 4TQ. \nMatches will be doubles only.  These will be based on ability\, making sure everyone has a challenge and a chance to play against people they do not play regularly. \nThere are 6 courts and a 30 player limit (15 pairs) so there is plenty of court time available. \nThis will be fun and friendly\, allowing players to gently re-introduce themselves back to competitive match play.
URL:https://glasgowbadminton.co.uk/event/adult-match-play
LOCATION:Sir Craig Reedie Centre\, 12 Bogmoor Place\, Glasgow\, G51 4TQ\, United Kingdom
CATEGORIES:Adult Social,Disability,Masters,National,Senior,Veterans
ORGANIZER;CN="Badminton Scotland":MAILTO:marketing@badmintonscotland.org.uk
END:VEVENT
END:VCALENDAR